BEGIN:VCALENDAR
VERSION:2.0
PRODID:-//Wanderings and Ramblings from West Michigan - ECPv6.15.20//NONSGML v1.0//EN
CALSCALE:GREGORIAN
METHOD:PUBLISH
X-WR-CALNAME:Wanderings and Ramblings from West Michigan
X-ORIGINAL-URL:https://klovanich.com
X-WR-CALDESC:Events for Wanderings and Ramblings from West Michigan
REFRESH-INTERVAL;VALUE=DURATION:PT1H
X-Robots-Tag:noindex
X-PUBLISHED-TTL:PT1H
BEGIN:VTIMEZONE
TZID:America/Detroit
BEGIN:DAYLIGHT
TZOFFSETFROM:-0500
TZOFFSETTO:-0400
TZNAME:EDT
DTSTART:20220313T070000
END:DAYLIGHT
BEGIN:STANDARD
TZOFFSETFROM:-0400
TZOFFSETTO:-0500
TZNAME:EST
DTSTART:20221106T060000
END:STANDARD
BEGIN:DAYLIGHT
TZOFFSETFROM:-0500
TZOFFSETTO:-0400
TZNAME:EDT
DTSTART:20230312T070000
END:DAYLIGHT
BEGIN:STANDARD
TZOFFSETFROM:-0400
TZOFFSETTO:-0500
TZNAME:EST
DTSTART:20231105T060000
END:STANDARD
BEGIN:DAYLIGHT
TZOFFSETFROM:-0500
TZOFFSETTO:-0400
TZNAME:EDT
DTSTART:20240310T070000
END:DAYLIGHT
BEGIN:STANDARD
TZOFFSETFROM:-0400
TZOFFSETTO:-0500
TZNAME:EST
DTSTART:20241103T060000
END:STANDARD
END:VTIMEZONE
BEGIN:VEVENT
DTSTART;TZID=America/Detroit:20230818T170000
DTEND;TZID=America/Detroit:20230818T230000
DTSTAMP:20260425T081425
CREATED:20230817T202443Z
LAST-MODIFIED:20230817T204630Z
UID:265-1692378000-1692399600@klovanich.com
SUMMARY:Operating Engineers 324 Night at the Races
DESCRIPTION:Attention race fans! Who’s ready for Operating Engineers Night!!\nOperating Engineers 324 night at the races! Show your union card at the gate\, and get $5 off each ticket! \nI-96 Speedway link  I-96 Speedway Facebook link \nGet ready for an unforgettable evening of high-speed thrills and up-close-and-personal interactions with your favorite drivers at I-96 Speedway on Friday\, August 18th! This event is perfect for families\, friends\, and anyone who loves the excitement of motorsports.\nWhether you’re a die-hard race fan or new to the sport\, come on out and see our racers at I-96 Speedway!\nFeaturing:\n360 Winged Sprint Cars\nLate Models\nMidwest Compact Series\nMini Wedges\nPits Open@ 3:00 pm\nGrand Stands@ 5:00 pm\nNational Anthem and Racing starts@ 8:00 pm\n$20 General Admission\n$35 Pit Pass\n$18 (for veterans\, active military\, and seniors)\n$5 Ages 5-11\nFREE for ages 1-4\n** NO GLASS ALLOWED**\n**Coolers must be 10 x 8 or smaller**
URL:https://klovanich.com/event-single-post-name/operating-engineers-324-night-at-the-races/
LOCATION:I-96 Speedway\, 3823 Portland Rd\, Lake Odessa\, Michigan\, MI\, United States
END:VEVENT
BEGIN:VEVENT
DTSTART;TZID=America/Detroit:20230818T143000
DTEND;TZID=America/Detroit:20230818T233000
DTSTAMP:20260425T081425
CREATED:20230813T224358Z
LAST-MODIFIED:20230813T224534Z
UID:239-1692369000-1692401400@klovanich.com
SUMMARY:Outlaw Super Late Models are back at Kalamazoo Speedway
DESCRIPTION:The Outlaw Super Late Models are back for their last $5\,000 to win race at Kalamazoo Speedway for 2023 season; a 75 lap finale! \nJoining the Outlaws are the Late Models and the Street Stock. Ticket window opens at 3:30. \nKalamazoo Speedway link
URL:https://klovanich.com/event-single-post-name/outlaw-super-late-models-are-back-at-kalamazoo-speedway/
LOCATION:Kalamazoo Speedway\, 7656 Ravine Road\, Kalamazoo\, MI\, 49009\, United States
END:VEVENT
BEGIN:VEVENT
DTSTART;TZID=America/Detroit:20230818T090000
DTEND;TZID=America/Detroit:20230820T163000
DTSTAMP:20260425T081425
CREATED:20230813T175012Z
LAST-MODIFIED:20230813T181104Z
UID:227-1692349200-1692549000@klovanich.com
SUMMARY:59th Annual Danish Festival
DESCRIPTION:The Danish Festival is held the 3rd full weekend in August\, in downtown Greenville\, MI. \nFestival Website is http://www.danishfestival.org
URL:https://klovanich.com/event-single-post-name/59th-annual-danish-festival/
LOCATION:MI
END:VEVENT
END:VCALENDAR