BEGIN:VCALENDAR
VERSION:2.0
PRODID:-//Wanderings and Ramblings from West Michigan - ECPv6.15.20//NONSGML v1.0//EN
CALSCALE:GREGORIAN
METHOD:PUBLISH
X-WR-CALNAME:Wanderings and Ramblings from West Michigan
X-ORIGINAL-URL:https://klovanich.com
X-WR-CALDESC:Events for Wanderings and Ramblings from West Michigan
REFRESH-INTERVAL;VALUE=DURATION:PT1H
X-Robots-Tag:noindex
X-PUBLISHED-TTL:PT1H
BEGIN:VTIMEZONE
TZID:America/Detroit
BEGIN:DAYLIGHT
TZOFFSETFROM:-0500
TZOFFSETTO:-0400
TZNAME:EDT
DTSTART:20220313T070000
END:DAYLIGHT
BEGIN:STANDARD
TZOFFSETFROM:-0400
TZOFFSETTO:-0500
TZNAME:EST
DTSTART:20221106T060000
END:STANDARD
BEGIN:DAYLIGHT
TZOFFSETFROM:-0500
TZOFFSETTO:-0400
TZNAME:EDT
DTSTART:20230312T070000
END:DAYLIGHT
BEGIN:STANDARD
TZOFFSETFROM:-0400
TZOFFSETTO:-0500
TZNAME:EST
DTSTART:20231105T060000
END:STANDARD
BEGIN:DAYLIGHT
TZOFFSETFROM:-0500
TZOFFSETTO:-0400
TZNAME:EDT
DTSTART:20240310T070000
END:DAYLIGHT
BEGIN:STANDARD
TZOFFSETFROM:-0400
TZOFFSETTO:-0500
TZNAME:EST
DTSTART:20241103T060000
END:STANDARD
END:VTIMEZONE
BEGIN:VTIMEZONE
TZID:UTC
BEGIN:STANDARD
TZOFFSETFROM:+0000
TZOFFSETTO:+0000
TZNAME:UTC
DTSTART:20220101T000000
END:STANDARD
END:VTIMEZONE
BEGIN:VEVENT
DTSTART;TZID=America/Detroit:20231110T000000
DTEND;TZID=America/Detroit:20231117T235959
DTSTAMP:20260423T135523
CREATED:20231023T215344Z
LAST-MODIFIED:20231023T215344Z
UID:946-1699574400-1700265599@klovanich.com
SUMMARY:Traverse City Beer Week
DESCRIPTION:link
URL:https://klovanich.com/event-single-post-name/traverse-city-beer-week/
LOCATION:MI
END:VEVENT
BEGIN:VEVENT
DTSTART;TZID=America/Detroit:20230929T000000
DTEND;TZID=America/Detroit:20230930T235959
DTSTAMP:20260423T135523
CREATED:20230929T130758Z
LAST-MODIFIED:20230929T130758Z
UID:938-1695945600-1696118399@klovanich.com
SUMMARY:Oktoberfest GR
DESCRIPTION:Oktoberfest Grand Rapids is an annual event that is held at Riverside Park. The event dates are September 29\, 2023 3pm to 10pm and September 30\, 2023 12pm to 10pm. The event is a community event\, family friendly and free to attend. \nEvent features German Beer\, Food and Music. \nFacebook link
URL:https://klovanich.com/event-single-post-name/oktoberfest-gr/
LOCATION:Riverside Park\, 2000 Monroe Ave\, NW\, Grand Rapids\, MI\, 49505\, United States
END:VEVENT
BEGIN:VEVENT
DTSTART;TZID=America/Detroit:20230923T180000
DTEND;TZID=America/Detroit:20230924T000000
DTSTAMP:20260423T135523
CREATED:20230921T201211Z
LAST-MODIFIED:20230922T003018Z
UID:766-1695492000-1695513600@klovanich.com
SUMMARY:Wurst Festival
DESCRIPTION:The 13th Annual Wurst Festival Ever \nNew Salem Corn Maze \n4552 24th St Dorr MI \nGates open at 6:00pm \nLive Music\nNoBodies 6:30-8:30\nSunset Blvd 9pm-12:00am \nHaunted Woods & Haunted Corn Maze start at dusk!\nFacebook Link
URL:https://klovanich.com/event-single-post-name/wurst-festival/
LOCATION:New Salem Corn Maze\, 4552 24th St\, Dorr\, MI\, 49323\, United States
END:VEVENT
BEGIN:VEVENT
DTSTART;TZID=America/Detroit:20230916T130000
DTEND;TZID=America/Detroit:20230916T233000
DTSTAMP:20260423T135523
CREATED:20230821T121932Z
LAST-MODIFIED:20230821T121932Z
UID:316-1694869200-1694907000@klovanich.com
SUMMARY:The Legendary Night of Destruction
DESCRIPTION:link for The Legendary Night of Destruction\nDon’t wait till the last minute. This event is a sell out.
URL:https://klovanich.com/event-single-post-name/the-legendary-night-of-destruction/
LOCATION:Kalamazoo Speedway\, 7656 Ravine Road\, Kalamazoo\, MI\, 49009\, United States
END:VEVENT
BEGIN:VEVENT
DTSTART;TZID=America/Detroit:20230914T000000
DTEND;TZID=America/Detroit:20231001T235959
DTSTAMP:20260423T135523
CREATED:20230923T143449Z
LAST-MODIFIED:20230923T143449Z
UID:876-1694649600-1696204799@klovanich.com
SUMMARY:ArtPrize
DESCRIPTION:ArtPrize is an annual\, international art competition and cultural event in Grand Rapids\, Michigan.\nArtPrize link
URL:https://klovanich.com/event-single-post-name/artprize/
LOCATION:Downtown Grand Rapids\, Grand Rapids\, MI\, United States
END:VEVENT
BEGIN:VEVENT
DTSTART;TZID=America/Detroit:20230901T000000
DTEND;TZID=America/Detroit:20230904T235959
DTSTAMP:20260423T135523
CREATED:20230819T141222Z
LAST-MODIFIED:20230819T141940Z
UID:284-1693526400-1693871999@klovanich.com
SUMMARY:Annual Labor Day Bash on the Bay Weekend
DESCRIPTION:Annual Labor Day Bash on the Bay Weekend – The end of summer is almost upon us and this is one of the biggest going away parties!  \nRead more on Put-In-Bay Online
URL:https://klovanich.com/event-single-post-name/annual-labor-day-bash-on-the-bay-weekend/
LOCATION:Put-In-Bay\, OH
END:VEVENT
BEGIN:VEVENT
DTSTART;TZID=UTC:20230901T000000
DTEND;TZID=UTC:20230901T235959
DTSTAMP:20260423T135523
CREATED:20230813T165209Z
LAST-MODIFIED:20230813T185759Z
UID:171-1693526400-1693612799@klovanich.com
SUMMARY:Auburn Cord Duesenburg Festival Cruise-In
DESCRIPTION:ACD Festival (Aug 31 – Sept. 3\, 2023)Pre-Festival events starting Aug 26.The World’s Greatest Classic Car Show and Festival. Held every year the week before Labor Day. \nFestival Website is https://www.acdfestival.org
URL:https://klovanich.com/event-single-post-name/auburn-cord-duesenburg-festival-cruise-in/
LOCATION:MI
END:VEVENT
BEGIN:VEVENT
DTSTART;TZID=America/Detroit:20230825T000000
DTEND;TZID=America/Detroit:20230827T235959
DTSTAMP:20260423T135523
CREATED:20230819T142656Z
LAST-MODIFIED:20230819T142703Z
UID:289-1692921600-1693180799@klovanich.com
SUMMARY:Hastings Summerfest
DESCRIPTION:The Hastings Summerfest is an annual summer festival held in Downtown Hastings by the Barry County Chamber of Commerce Summerfest Committee.  The event features arts & crafts vendors on the courthouse lawn\, concessions\, free trolley rides\, children’s activities\, a  softball tournament\, 3-on-3 basketball\, 10K/5K run\, parade\, car show\, live entertainment and a refreshment tent. \nread more on hastingssummerfest.com
URL:https://klovanich.com/event-single-post-name/hastings-summerfest/
LOCATION:MI
END:VEVENT
BEGIN:VEVENT
DTSTART;TZID=America/Detroit:20230819T120000
DTEND;TZID=America/Detroit:20230819T170000
DTSTAMP:20260423T135523
CREATED:20230813T045730Z
LAST-MODIFIED:20230813T055744Z
UID:160-1692446400-1692464400@klovanich.com
SUMMARY:Barry County Brewfest
DESCRIPTION:Barry County BrewFest 2023 will be held at the Middleville Village Pavilion – 91 E Main St. Middleville\, MI. \nBrewfest
URL:https://klovanich.com/event-single-post-name/barry-county-brewfest/
LOCATION:MI
END:VEVENT
BEGIN:VEVENT
DTSTART;TZID=America/Detroit:20230818T170000
DTEND;TZID=America/Detroit:20230818T230000
DTSTAMP:20260423T135523
CREATED:20230817T202443Z
LAST-MODIFIED:20230817T204630Z
UID:265-1692378000-1692399600@klovanich.com
SUMMARY:Operating Engineers 324 Night at the Races
DESCRIPTION:Attention race fans! Who’s ready for Operating Engineers Night!!\nOperating Engineers 324 night at the races! Show your union card at the gate\, and get $5 off each ticket! \nI-96 Speedway link  I-96 Speedway Facebook link \nGet ready for an unforgettable evening of high-speed thrills and up-close-and-personal interactions with your favorite drivers at I-96 Speedway on Friday\, August 18th! This event is perfect for families\, friends\, and anyone who loves the excitement of motorsports.\nWhether you’re a die-hard race fan or new to the sport\, come on out and see our racers at I-96 Speedway!\nFeaturing:\n360 Winged Sprint Cars\nLate Models\nMidwest Compact Series\nMini Wedges\nPits Open@ 3:00 pm\nGrand Stands@ 5:00 pm\nNational Anthem and Racing starts@ 8:00 pm\n$20 General Admission\n$35 Pit Pass\n$18 (for veterans\, active military\, and seniors)\n$5 Ages 5-11\nFREE for ages 1-4\n** NO GLASS ALLOWED**\n**Coolers must be 10 x 8 or smaller**
URL:https://klovanich.com/event-single-post-name/operating-engineers-324-night-at-the-races/
LOCATION:I-96 Speedway\, 3823 Portland Rd\, Lake Odessa\, Michigan\, MI\, United States
END:VEVENT
BEGIN:VEVENT
DTSTART;TZID=America/Detroit:20230818T143000
DTEND;TZID=America/Detroit:20230818T233000
DTSTAMP:20260423T135523
CREATED:20230813T224358Z
LAST-MODIFIED:20230813T224534Z
UID:239-1692369000-1692401400@klovanich.com
SUMMARY:Outlaw Super Late Models are back at Kalamazoo Speedway
DESCRIPTION:The Outlaw Super Late Models are back for their last $5\,000 to win race at Kalamazoo Speedway for 2023 season; a 75 lap finale! \nJoining the Outlaws are the Late Models and the Street Stock. Ticket window opens at 3:30. \nKalamazoo Speedway link
URL:https://klovanich.com/event-single-post-name/outlaw-super-late-models-are-back-at-kalamazoo-speedway/
LOCATION:Kalamazoo Speedway\, 7656 Ravine Road\, Kalamazoo\, MI\, 49009\, United States
END:VEVENT
BEGIN:VEVENT
DTSTART;TZID=America/Detroit:20230818T090000
DTEND;TZID=America/Detroit:20230820T163000
DTSTAMP:20260423T135523
CREATED:20230813T175012Z
LAST-MODIFIED:20230813T181104Z
UID:227-1692349200-1692549000@klovanich.com
SUMMARY:59th Annual Danish Festival
DESCRIPTION:The Danish Festival is held the 3rd full weekend in August\, in downtown Greenville\, MI. \nFestival Website is http://www.danishfestival.org
URL:https://klovanich.com/event-single-post-name/59th-annual-danish-festival/
LOCATION:MI
END:VEVENT
END:VCALENDAR