BEGIN:VCALENDAR
VERSION:2.0
PRODID:-//Wanderings and Ramblings from West Michigan - ECPv6.15.20//NONSGML v1.0//EN
CALSCALE:GREGORIAN
METHOD:PUBLISH
X-WR-CALNAME:Wanderings and Ramblings from West Michigan
X-ORIGINAL-URL:https://klovanich.com
X-WR-CALDESC:Events for Wanderings and Ramblings from West Michigan
REFRESH-INTERVAL;VALUE=DURATION:PT1H
X-Robots-Tag:noindex
X-PUBLISHED-TTL:PT1H
BEGIN:VTIMEZONE
TZID:America/Detroit
BEGIN:DAYLIGHT
TZOFFSETFROM:-0500
TZOFFSETTO:-0400
TZNAME:EDT
DTSTART:20230312T070000
END:DAYLIGHT
BEGIN:STANDARD
TZOFFSETFROM:-0400
TZOFFSETTO:-0500
TZNAME:EST
DTSTART:20231105T060000
END:STANDARD
BEGIN:DAYLIGHT
TZOFFSETFROM:-0500
TZOFFSETTO:-0400
TZNAME:EDT
DTSTART:20240310T070000
END:DAYLIGHT
BEGIN:STANDARD
TZOFFSETFROM:-0400
TZOFFSETTO:-0500
TZNAME:EST
DTSTART:20241103T060000
END:STANDARD
BEGIN:DAYLIGHT
TZOFFSETFROM:-0500
TZOFFSETTO:-0400
TZNAME:EDT
DTSTART:20250309T070000
END:DAYLIGHT
BEGIN:STANDARD
TZOFFSETFROM:-0400
TZOFFSETTO:-0500
TZNAME:EST
DTSTART:20251102T060000
END:STANDARD
BEGIN:DAYLIGHT
TZOFFSETFROM:-0500
TZOFFSETTO:-0400
TZNAME:EDT
DTSTART:20260308T070000
END:DAYLIGHT
BEGIN:STANDARD
TZOFFSETFROM:-0400
TZOFFSETTO:-0500
TZNAME:EST
DTSTART:20261101T060000
END:STANDARD
BEGIN:DAYLIGHT
TZOFFSETFROM:-0500
TZOFFSETTO:-0400
TZNAME:EDT
DTSTART:20270314T070000
END:DAYLIGHT
BEGIN:STANDARD
TZOFFSETFROM:-0400
TZOFFSETTO:-0500
TZNAME:EST
DTSTART:20271107T060000
END:STANDARD
END:VTIMEZONE
BEGIN:VEVENT
DTSTART;TZID=America/Detroit:20240718T180000
DTEND;TZID=America/Detroit:20240718T233000
DTSTAMP:20260425T063430
CREATED:20240111T132057Z
LAST-MODIFIED:20240111T132057Z
UID:1906-1721325600-1721345400@klovanich.com
SUMMARY:Def Leppard / Journey: The Summer Stadium Tour and Steve Miller Band
DESCRIPTION:DEF LEPPARD & JOURNEY JOINED BY STEVE MILLER BAND\n“The Summer Stadium Tour 2024”\nDATE\nJuly 18\, 2024\nVENUE\nComerica Park\nEVENT STARTS\n6:00PM\nDOORS OPEN\nDoors open 60 minutes prior to event time. This is subject to change \nTwo of rock’s most iconic and influential bands\, Journey and Def Leppard\, have announced next summer’s hottest co-headlining stadium tour. The bands will join forces to conquer stadium stages across North America in 2024. This legendary collaboration promises a musical journey like no other\, igniting the hearts and souls of fans and delivering a night of unforgettable rock anthems. The 23-city tour will perform at Comerica Park on Thursday\, July 18 at 6 p.m. Def Leppard & Journey will be joined by Steve Miller Band to round out an evening of rock. The tour is presented by AEG Presents.
URL:https://klovanich.com/event-single-post-name/def-leppard-journey-the-summer-stadium-tour-and-steve-miller-band/
LOCATION:Comerica Park\, 2100 Woodward Ave\, Detroit\, MI\, 48201\, United States
END:VEVENT
BEGIN:VEVENT
DTSTART;TZID=America/Detroit:20240821T000000
DTEND;TZID=America/Detroit:20240822T235959
DTSTAMP:20260425T063430
CREATED:20240111T140638Z
LAST-MODIFIED:20240111T140638Z
UID:1920-1724198400-1724371199@klovanich.com
SUMMARY:Bash on the Bay 7 Featuring Jelly Roll & Hardy
DESCRIPTION:LINEUP: Wednesday Aug 21\, 2024 \nJelly Roll \nOliver Anthony \nWarren Zeiders \nAshland Craft \nLogan Crosby \nLINEUP: Thursday August 22\, 2024 \nHardy \nErnest \nDrake White and the Big Fire \nTigirlily Gold \nCory Farley
URL:https://klovanich.com/event-single-post-name/bash-on-the-bay-7-featuring-jelly-roll-hardy/
LOCATION:Put-In-Bay\, Put-In-Bay\, OH\, 43456\, United States
END:VEVENT
BEGIN:VEVENT
DTSTART;TZID=America/Detroit:20260414T080000
DTEND;TZID=America/Detroit:20260414T100000
DTSTAMP:20260425T063430
CREATED:20260406T221153Z
LAST-MODIFIED:20260406T221153Z
UID:2291-1776153600-1776160800@klovanich.com
SUMMARY:Business of WordPress + Co-Work Meetup
DESCRIPTION:From the organizer\n“Order up a cup of coffee or tea and join us to connect with like-minded professionals and expand your knowledge of WordPress. Whether you are a beginner or an expert\, this event is perfect for you! Don’t miss out on this fantastic event to boost your WordPress skills and grow your business connections.”
URL:https://klovanich.com/event-single-post-name/business-of-wordpress-co-work-meetup/
LOCATION:Ferris Coffee & Nut Co.\, 839 Seward Ave NW\, Grand Rapids\, MI\, MI\, 49504\, United States
END:VEVENT
BEGIN:VEVENT
DTSTART;TZID=America/Detroit:20260501T000000
DTEND;TZID=America/Detroit:20260510T235959
DTSTAMP:20260425T063430
CREATED:20260419T025959Z
LAST-MODIFIED:20260419T025959Z
UID:2361-1777593600-1778457599@klovanich.com
SUMMARY:Holland Tulip Time Festival
DESCRIPTION:The Holland Tulip Time Festival runs May 1–10\, 2026. It’s the best flower festival I’ve ever been to.
URL:https://klovanich.com/event-single-post-name/holland-tulip-time-festival/
LOCATION:Holland\, Michigan\, 85 E 6th St\, Holland\, MI\, 49423\, United States
END:VEVENT
BEGIN:VEVENT
DTSTART;TZID=America/Detroit:20260619T190000
DTEND;TZID=America/Detroit:20260619T235900
DTSTAMP:20260425T063430
CREATED:20260326T120248Z
LAST-MODIFIED:20260326T120248Z
UID:2008-1781895600-1781913540@klovanich.com
SUMMARY:Megan Moroney
DESCRIPTION:Megan Moroney brings her Cloud 9 tour to Van Andel Arena on Friday\, June 19\, 2026.
URL:https://klovanich.com/event-single-post-name/megan-moroney/
LOCATION:Van Andel Arena\, 130 West Fulton St.\, Grand Rapids\, MI\, 49503\, United States
END:VEVENT
BEGIN:VEVENT
DTSTART;TZID=America/Detroit:20260718T183000
DTEND;TZID=America/Detroit:20260718T235900
DTSTAMP:20260425T063430
CREATED:20260328T130748Z
LAST-MODIFIED:20260328T130748Z
UID:2107-1784399400-1784419140@klovanich.com
SUMMARY:Hank Williams Jr.
DESCRIPTION:The Original Voice of Outlaw Country\nguest Sammy Kershaw @ 6:30PM
URL:https://klovanich.com/event-single-post-name/hank-williams-jr/
LOCATION:Acrisure Amphitheater (Grand Rapids)\, Grand Rapids\, Michigan\, USA\, 201 Market Avenue Southwest\, Grand Rapids\, MI\, 49503\, United States
END:VEVENT
BEGIN:VEVENT
DTSTART;TZID=America/Detroit:20260722T183000
DTEND;TZID=America/Detroit:20260722T235900
DTSTAMP:20260425T063430
CREATED:20260326T095616Z
LAST-MODIFIED:20260326T101009Z
UID:1988-1784745000-1784764740@klovanich.com
SUMMARY:The Black Crowes & Whiskey Myers
DESCRIPTION:Be ready to have some money shook out of you once again in 2026 when the Black Crowes return with another electrifying tour that promises more excitement than ever! After years of captivating audiences across three decades\, iconic rock siblings Chris and Rich Robinson promise an experience unlike anything seen before with timeless hits as well as some fresh new tricks from them both! \nBeginning March 23 and continuing all throughout summer\, The Crowes have set off on an extensive tour that spans from New York City to the sunny shores of Los Angeles with stops in Chicago\, Atlanta and Nashville among many others – this tour promises to be their longest yet. Starting March and jamming all through summertime in each city will bring with it an unparalleled revival of rock’n’roll that only The Crowes can provide!
URL:https://klovanich.com/event-single-post-name/the-black-crowes-whiskey-myers/
LOCATION:Acrisure Amphitheater (Grand Rapids)\, Grand Rapids\, Michigan\, USA\, 201 Market Avenue Southwest\, Grand Rapids\, MI\, 49503\, United States
END:VEVENT
BEGIN:VEVENT
DTSTART;TZID=America/Detroit:20260911T193000
DTEND;TZID=America/Detroit:20260911T235900
DTSTAMP:20260425T063430
CREATED:20260410T174128Z
LAST-MODIFIED:20260410T174128Z
UID:2329-1789155000-1789171140@klovanich.com
SUMMARY:Wynonna Judd and Melissa Etheridge
DESCRIPTION:Wynonna Judd and Melissa Etheridge are coming to the Allegan County Fair on Friday\, September 11th!
URL:https://klovanich.com/event-single-post-name/wynonna-judd-and-melissa-etheridge/
LOCATION:MI
ORGANIZER;CN="Allegan County Fair":MAILTO:acfair@allegancountyfair.com
END:VEVENT
END:VCALENDAR