BEGIN:VCALENDAR
VERSION:2.0
PRODID:-//Wanderings and Ramblings from West Michigan - ECPv6.15.20//NONSGML v1.0//EN
CALSCALE:GREGORIAN
METHOD:PUBLISH
X-WR-CALNAME:Wanderings and Ramblings from West Michigan
X-ORIGINAL-URL:https://klovanich.com
X-WR-CALDESC:Events for Wanderings and Ramblings from West Michigan
REFRESH-INTERVAL;VALUE=DURATION:PT1H
X-Robots-Tag:noindex
X-PUBLISHED-TTL:PT1H
BEGIN:VTIMEZONE
TZID:America/Detroit
BEGIN:DAYLIGHT
TZOFFSETFROM:-0500
TZOFFSETTO:-0400
TZNAME:EDT
DTSTART:20250309T070000
END:DAYLIGHT
BEGIN:STANDARD
TZOFFSETFROM:-0400
TZOFFSETTO:-0500
TZNAME:EST
DTSTART:20251102T060000
END:STANDARD
BEGIN:DAYLIGHT
TZOFFSETFROM:-0500
TZOFFSETTO:-0400
TZNAME:EDT
DTSTART:20260308T070000
END:DAYLIGHT
BEGIN:STANDARD
TZOFFSETFROM:-0400
TZOFFSETTO:-0500
TZNAME:EST
DTSTART:20261101T060000
END:STANDARD
BEGIN:DAYLIGHT
TZOFFSETFROM:-0500
TZOFFSETTO:-0400
TZNAME:EDT
DTSTART:20270314T070000
END:DAYLIGHT
BEGIN:STANDARD
TZOFFSETFROM:-0400
TZOFFSETTO:-0500
TZNAME:EST
DTSTART:20271107T060000
END:STANDARD
END:VTIMEZONE
BEGIN:VEVENT
DTSTART;TZID=America/Detroit:20260619T190000
DTEND;TZID=America/Detroit:20260619T235900
DTSTAMP:20260423T170708
CREATED:20260326T120248Z
LAST-MODIFIED:20260326T120248Z
UID:2008-1781895600-1781913540@klovanich.com
SUMMARY:Megan Moroney
DESCRIPTION:Megan Moroney brings her Cloud 9 tour to Van Andel Arena on Friday\, June 19\, 2026.
URL:https://klovanich.com/event-single-post-name/megan-moroney/
LOCATION:Van Andel Arena\, 130 West Fulton St.\, Grand Rapids\, MI\, 49503\, United States
END:VEVENT
END:VCALENDAR