BEGIN:VCALENDAR
VERSION:2.0
PRODID:-//Wanderings and Ramblings from West Michigan - ECPv6.15.20//NONSGML v1.0//EN
CALSCALE:GREGORIAN
METHOD:PUBLISH
X-ORIGINAL-URL:https://klovanich.com
X-WR-CALDESC:Events for Wanderings and Ramblings from West Michigan
REFRESH-INTERVAL;VALUE=DURATION:PT1H
X-Robots-Tag:noindex
X-PUBLISHED-TTL:PT1H
BEGIN:VTIMEZONE
TZID:America/Detroit
BEGIN:DAYLIGHT
TZOFFSETFROM:-0500
TZOFFSETTO:-0400
TZNAME:EDT
DTSTART:20230312T070000
END:DAYLIGHT
BEGIN:STANDARD
TZOFFSETFROM:-0400
TZOFFSETTO:-0500
TZNAME:EST
DTSTART:20231105T060000
END:STANDARD
BEGIN:DAYLIGHT
TZOFFSETFROM:-0500
TZOFFSETTO:-0400
TZNAME:EDT
DTSTART:20240310T070000
END:DAYLIGHT
BEGIN:STANDARD
TZOFFSETFROM:-0400
TZOFFSETTO:-0500
TZNAME:EST
DTSTART:20241103T060000
END:STANDARD
BEGIN:DAYLIGHT
TZOFFSETFROM:-0500
TZOFFSETTO:-0400
TZNAME:EDT
DTSTART:20250309T070000
END:DAYLIGHT
BEGIN:STANDARD
TZOFFSETFROM:-0400
TZOFFSETTO:-0500
TZNAME:EST
DTSTART:20251102T060000
END:STANDARD
END:VTIMEZONE
BEGIN:VEVENT
DTSTART;TZID=America/Detroit:20240821T000000
DTEND;TZID=America/Detroit:20240822T235959
DTSTAMP:20260424T201750
CREATED:20240111T140638Z
LAST-MODIFIED:20240111T140638Z
UID:1920-1724198400-1724371199@klovanich.com
SUMMARY:Bash on the Bay 7 Featuring Jelly Roll & Hardy
DESCRIPTION:LINEUP: Wednesday Aug 21\, 2024 \nJelly Roll \nOliver Anthony \nWarren Zeiders \nAshland Craft \nLogan Crosby \nLINEUP: Thursday August 22\, 2024 \nHardy \nErnest \nDrake White and the Big Fire \nTigirlily Gold \nCory Farley
URL:https://klovanich.com/event-single-post-name/bash-on-the-bay-7-featuring-jelly-roll-hardy/
LOCATION:Put-In-Bay\, Put-In-Bay\, OH\, 43456\, United States
END:VEVENT
END:VCALENDAR