BEGIN:VCALENDAR
VERSION:2.0
PRODID:-//Wanderings and Ramblings from West Michigan - ECPv6.15.20//NONSGML v1.0//EN
CALSCALE:GREGORIAN
METHOD:PUBLISH
X-ORIGINAL-URL:https://klovanich.com
X-WR-CALDESC:Events for Wanderings and Ramblings from West Michigan
REFRESH-INTERVAL;VALUE=DURATION:PT1H
X-Robots-Tag:noindex
X-PUBLISHED-TTL:PT1H
BEGIN:VTIMEZONE
TZID:America/Detroit
BEGIN:DAYLIGHT
TZOFFSETFROM:-0500
TZOFFSETTO:-0400
TZNAME:EDT
DTSTART:20230312T070000
END:DAYLIGHT
BEGIN:STANDARD
TZOFFSETFROM:-0400
TZOFFSETTO:-0500
TZNAME:EST
DTSTART:20231105T060000
END:STANDARD
BEGIN:DAYLIGHT
TZOFFSETFROM:-0500
TZOFFSETTO:-0400
TZNAME:EDT
DTSTART:20240310T070000
END:DAYLIGHT
BEGIN:STANDARD
TZOFFSETFROM:-0400
TZOFFSETTO:-0500
TZNAME:EST
DTSTART:20241103T060000
END:STANDARD
BEGIN:DAYLIGHT
TZOFFSETFROM:-0500
TZOFFSETTO:-0400
TZNAME:EDT
DTSTART:20250309T070000
END:DAYLIGHT
BEGIN:STANDARD
TZOFFSETFROM:-0400
TZOFFSETTO:-0500
TZNAME:EST
DTSTART:20251102T060000
END:STANDARD
END:VTIMEZONE
BEGIN:VEVENT
DTSTART;TZID=America/Detroit:20240112T000000
DTEND;TZID=America/Detroit:20240310T235959
DTSTAMP:20260425T063231
CREATED:20240111T123129Z
LAST-MODIFIED:20240111T123129Z
UID:1895-1705017600-1710115199@klovanich.com
SUMMARY:World of Winter 2024
DESCRIPTION:Downtown Grand Rapids transforms into a winter wonderland starting January 12 – March 10\, at the 7th annual World of Winter Festival! One of the most exciting attractions of the World of Winter Festival is Valent-ICE\, where Downtown Grand Rapids is decorated with over 50 ice sculptures\, making it the largest gallery of ice art in the state of Michigan. For more information\, visit worldofwintergr.com.
URL:https://klovanich.com/event-single-post-name/world-of-winter-2024/
LOCATION:MI
END:VEVENT
END:VCALENDAR