BEGIN:VCALENDAR
VERSION:2.0
PRODID:-//Wanderings and Ramblings from West Michigan - ECPv6.15.20//NONSGML v1.0//EN
CALSCALE:GREGORIAN
METHOD:PUBLISH
X-WR-CALNAME:Wanderings and Ramblings from West Michigan
X-ORIGINAL-URL:https://klovanich.com
X-WR-CALDESC:Events for Wanderings and Ramblings from West Michigan
REFRESH-INTERVAL;VALUE=DURATION:PT1H
X-Robots-Tag:noindex
X-PUBLISHED-TTL:PT1H
BEGIN:VTIMEZONE
TZID:America/Detroit
BEGIN:DAYLIGHT
TZOFFSETFROM:-0500
TZOFFSETTO:-0400
TZNAME:EDT
DTSTART:20220313T070000
END:DAYLIGHT
BEGIN:STANDARD
TZOFFSETFROM:-0400
TZOFFSETTO:-0500
TZNAME:EST
DTSTART:20221106T060000
END:STANDARD
BEGIN:DAYLIGHT
TZOFFSETFROM:-0500
TZOFFSETTO:-0400
TZNAME:EDT
DTSTART:20230312T070000
END:DAYLIGHT
BEGIN:STANDARD
TZOFFSETFROM:-0400
TZOFFSETTO:-0500
TZNAME:EST
DTSTART:20231105T060000
END:STANDARD
BEGIN:DAYLIGHT
TZOFFSETFROM:-0500
TZOFFSETTO:-0400
TZNAME:EDT
DTSTART:20240310T070000
END:DAYLIGHT
BEGIN:STANDARD
TZOFFSETFROM:-0400
TZOFFSETTO:-0500
TZNAME:EST
DTSTART:20241103T060000
END:STANDARD
END:VTIMEZONE
BEGIN:VEVENT
DTSTART;TZID=America/Detroit:20230914T000000
DTEND;TZID=America/Detroit:20231001T235959
DTSTAMP:20260425T125208
CREATED:20230923T143449Z
LAST-MODIFIED:20230923T143449Z
UID:876-1694649600-1696204799@klovanich.com
SUMMARY:ArtPrize
DESCRIPTION:ArtPrize is an annual\, international art competition and cultural event in Grand Rapids\, Michigan.\nArtPrize link
URL:https://klovanich.com/event-single-post-name/artprize/
LOCATION:Downtown Grand Rapids\, Grand Rapids\, MI\, United States
END:VEVENT
BEGIN:VEVENT
DTSTART;TZID=America/Detroit:20230929T000000
DTEND;TZID=America/Detroit:20230930T235959
DTSTAMP:20260425T125208
CREATED:20230929T130758Z
LAST-MODIFIED:20230929T130758Z
UID:938-1695945600-1696118399@klovanich.com
SUMMARY:Oktoberfest GR
DESCRIPTION:Oktoberfest Grand Rapids is an annual event that is held at Riverside Park. The event dates are September 29\, 2023 3pm to 10pm and September 30\, 2023 12pm to 10pm. The event is a community event\, family friendly and free to attend. \nEvent features German Beer\, Food and Music. \nFacebook link
URL:https://klovanich.com/event-single-post-name/oktoberfest-gr/
LOCATION:Riverside Park\, 2000 Monroe Ave\, NW\, Grand Rapids\, MI\, 49505\, United States
END:VEVENT
END:VCALENDAR